BEGIN:VCALENDAR
VERSION:2.0
PRODID:-//San Francisco - ECPv6.15.20//NONSGML v1.0//EN
CALSCALE:GREGORIAN
METHOD:PUBLISH
X-WR-CALNAME:San Francisco
X-ORIGINAL-URL:https://sf.cisvusa.org
X-WR-CALDESC:Events for San Francisco
REFRESH-INTERVAL;VALUE=DURATION:PT1H
X-Robots-Tag:noindex
X-PUBLISHED-TTL:PT1H
BEGIN:VTIMEZONE
TZID:America/Los_Angeles
BEGIN:DAYLIGHT
TZOFFSETFROM:-0800
TZOFFSETTO:-0700
TZNAME:PDT
DTSTART:20200308T100000
END:DAYLIGHT
BEGIN:STANDARD
TZOFFSETFROM:-0700
TZOFFSETTO:-0800
TZNAME:PST
DTSTART:20201101T090000
END:STANDARD
BEGIN:DAYLIGHT
TZOFFSETFROM:-0800
TZOFFSETTO:-0700
TZNAME:PDT
DTSTART:20210314T100000
END:DAYLIGHT
BEGIN:STANDARD
TZOFFSETFROM:-0700
TZOFFSETTO:-0800
TZNAME:PST
DTSTART:20211107T090000
END:STANDARD
BEGIN:DAYLIGHT
TZOFFSETFROM:-0800
TZOFFSETTO:-0700
TZNAME:PDT
DTSTART:20220313T100000
END:DAYLIGHT
BEGIN:STANDARD
TZOFFSETFROM:-0700
TZOFFSETTO:-0800
TZNAME:PST
DTSTART:20221106T090000
END:STANDARD
BEGIN:DAYLIGHT
TZOFFSETFROM:-0800
TZOFFSETTO:-0700
TZNAME:PDT
DTSTART:20230312T100000
END:DAYLIGHT
BEGIN:STANDARD
TZOFFSETFROM:-0700
TZOFFSETTO:-0800
TZNAME:PST
DTSTART:20231105T090000
END:STANDARD
BEGIN:DAYLIGHT
TZOFFSETFROM:-0800
TZOFFSETTO:-0700
TZNAME:PDT
DTSTART:20240310T100000
END:DAYLIGHT
BEGIN:STANDARD
TZOFFSETFROM:-0700
TZOFFSETTO:-0800
TZNAME:PST
DTSTART:20241103T090000
END:STANDARD
BEGIN:DAYLIGHT
TZOFFSETFROM:-0800
TZOFFSETTO:-0700
TZNAME:PDT
DTSTART:20250309T100000
END:DAYLIGHT
BEGIN:STANDARD
TZOFFSETFROM:-0700
TZOFFSETTO:-0800
TZNAME:PST
DTSTART:20251102T090000
END:STANDARD
BEGIN:DAYLIGHT
TZOFFSETFROM:-0800
TZOFFSETTO:-0700
TZNAME:PDT
DTSTART:20260308T100000
END:DAYLIGHT
BEGIN:STANDARD
TZOFFSETFROM:-0700
TZOFFSETTO:-0800
TZNAME:PST
DTSTART:20261101T090000
END:STANDARD
END:VTIMEZONE
BEGIN:VEVENT
DTSTART;TZID=America/Los_Angeles:20250907T120000
DTEND;TZID=America/Los_Angeles:20250907T150000
DTSTAMP:20260420T155336
CREATED:20220618T161506Z
LAST-MODIFIED:20250725T002551Z
UID:9541-1757246400-1757257200@sf.cisvusa.org
SUMMARY:Welcome Back Picnic
DESCRIPTION:Join us as we welcome back all of our summer travelers and hear about their experiences. The picnic is open to anyone interested in learning more about CISV and our chapter. \nIt’s BYOE (Bring Your Own Everything)- chairs\, blankets\, lunch\, snacks\, etc. \nThis will be another great opportunity to educate and inspire more action.
URL:https://sf.cisvusa.org/event/welcome-back-picnic-2/
LOCATION:Muirwood Park\, 4701 Muirwood Drive\, Pleasanton\, CA\, 94588\, United States
ATTACH;FMTTYPE=image/png:https://sf.cisvusa.org/wp-content/uploads/sites/26/2022/06/Blue-and-Green-Illustrated-Picnic-In-The-Park-Instagram-Post-1.png
GEO:37.6835193;-121.9170879
X-APPLE-STRUCTURED-LOCATION;VALUE=URI;X-ADDRESS=Muirwood Park 4701 Muirwood Drive Pleasanton CA 94588 United States;X-APPLE-RADIUS=500;X-TITLE=4701 Muirwood Drive:geo:-121.9170879,37.6835193
END:VEVENT
BEGIN:VEVENT
DTSTART;TZID=America/Los_Angeles:20210627T110000
DTEND;TZID=America/Los_Angeles:20210627T140000
DTSTAMP:20260420T155336
CREATED:20210522T162831Z
LAST-MODIFIED:20210610T011048Z
UID:9271-1624791600-1624802400@sf.cisvusa.org
SUMMARY:Chapter Picnic
DESCRIPTION:We are looking forward to seeing everyone at our Chapter Picnic. This is a social event designed to re-engage our chapter. Anyone and everyone is invited: new members\, active members\, less-active members\, prospective members\, friends & family…you get the point.  🙂 \nIt’s BYOE (Bring Your Own Everything)- chairs\, blankets\, lunch\, snacks\, etc.  Please come say hello and re-connect. \nIf you haven’t done so already\, you can RSVP here.
URL:https://sf.cisvusa.org/event/chapter-picnic/
LOCATION:Muirwood Park\, 4701 Muirwood Drive\, Pleasanton\, CA\, 94588\, United States
ATTACH;FMTTYPE=image/png:https://sf.cisvusa.org/wp-content/uploads/sites/26/2020/07/We-are.png
GEO:37.6835193;-121.9170879
X-APPLE-STRUCTURED-LOCATION;VALUE=URI;X-ADDRESS=Muirwood Park 4701 Muirwood Drive Pleasanton CA 94588 United States;X-APPLE-RADIUS=500;X-TITLE=4701 Muirwood Drive:geo:-121.9170879,37.6835193
END:VEVENT
END:VCALENDAR