BEGIN:VCALENDAR
VERSION:2.0
PRODID:-//San Francisco - ECPv6.15.20//NONSGML v1.0//EN
CALSCALE:GREGORIAN
METHOD:PUBLISH
X-WR-CALNAME:San Francisco
X-ORIGINAL-URL:https://sf.cisvusa.org
X-WR-CALDESC:Events for San Francisco
REFRESH-INTERVAL;VALUE=DURATION:PT1H
X-Robots-Tag:noindex
X-PUBLISHED-TTL:PT1H
BEGIN:VTIMEZONE
TZID:America/Los_Angeles
BEGIN:DAYLIGHT
TZOFFSETFROM:-0800
TZOFFSETTO:-0700
TZNAME:PDT
DTSTART:20240310T100000
END:DAYLIGHT
BEGIN:STANDARD
TZOFFSETFROM:-0700
TZOFFSETTO:-0800
TZNAME:PST
DTSTART:20241103T090000
END:STANDARD
BEGIN:DAYLIGHT
TZOFFSETFROM:-0800
TZOFFSETTO:-0700
TZNAME:PDT
DTSTART:20250309T100000
END:DAYLIGHT
BEGIN:STANDARD
TZOFFSETFROM:-0700
TZOFFSETTO:-0800
TZNAME:PST
DTSTART:20251102T090000
END:STANDARD
BEGIN:DAYLIGHT
TZOFFSETFROM:-0800
TZOFFSETTO:-0700
TZNAME:PDT
DTSTART:20260308T100000
END:DAYLIGHT
BEGIN:STANDARD
TZOFFSETFROM:-0700
TZOFFSETTO:-0800
TZNAME:PST
DTSTART:20261101T090000
END:STANDARD
END:VTIMEZONE
BEGIN:VEVENT
DTSTART;TZID=America/Los_Angeles:20250118T093000
DTEND;TZID=America/Los_Angeles:20250118T120000
DTSTAMP:20260420T065642
CREATED:20241216T060318Z
LAST-MODIFIED:20250117T203657Z
UID:9974-1737192600-1737201600@sf.cisvusa.org
SUMMARY:Habitat Restoration Service Event
DESCRIPTION:Spend a few hours over MLK weekend giving back to our community with fellow CISVers. We will join the Golden Gate Bird Alliance effort in restoring the habitat for endangered waterfront birds along Oakland’s MLK Shoreline. The extinction of bird species has a significant impact on the planet; birds are crucial for people and the planet to thrive. Tasks will include planting and attending to native plants\, and removing invasive non-native plant species and litter.\n\nEmail sf-events@cisvusa.org or Text (650) 218-4665 with questions\, or to coordinate when you arrive!\nSpots are limited. Use the link below to sign up.
URL:https://sf.cisvusa.org/event/9974/
LOCATION:Martin Luther King Jr. shoreline\, 7250 Doolittle Dr.\, Oakland\, CA\, 94621
ATTACH;FMTTYPE=image/png:https://sf.cisvusa.org/wp-content/uploads/sites/26/2024/12/Screen-Shot-2024-12-15-at-8.18.10-PM.png
END:VEVENT
END:VCALENDAR