BEGIN:VCALENDAR
VERSION:2.0
PRODID:-//San Francisco - ECPv6.15.20//NONSGML v1.0//EN
CALSCALE:GREGORIAN
METHOD:PUBLISH
X-WR-CALNAME:San Francisco
X-ORIGINAL-URL:https://sf.cisvusa.org
X-WR-CALDESC:Events for San Francisco
REFRESH-INTERVAL;VALUE=DURATION:PT1H
X-Robots-Tag:noindex
X-PUBLISHED-TTL:PT1H
BEGIN:VTIMEZONE
TZID:America/Los_Angeles
BEGIN:DAYLIGHT
TZOFFSETFROM:-0800
TZOFFSETTO:-0700
TZNAME:PDT
DTSTART:20240310T100000
END:DAYLIGHT
BEGIN:STANDARD
TZOFFSETFROM:-0700
TZOFFSETTO:-0800
TZNAME:PST
DTSTART:20241103T090000
END:STANDARD
BEGIN:DAYLIGHT
TZOFFSETFROM:-0800
TZOFFSETTO:-0700
TZNAME:PDT
DTSTART:20250309T100000
END:DAYLIGHT
BEGIN:STANDARD
TZOFFSETFROM:-0700
TZOFFSETTO:-0800
TZNAME:PST
DTSTART:20251102T090000
END:STANDARD
BEGIN:DAYLIGHT
TZOFFSETFROM:-0800
TZOFFSETTO:-0700
TZNAME:PDT
DTSTART:20260308T100000
END:DAYLIGHT
BEGIN:STANDARD
TZOFFSETFROM:-0700
TZOFFSETTO:-0800
TZNAME:PST
DTSTART:20261101T090000
END:STANDARD
END:VTIMEZONE
BEGIN:VEVENT
DTSTART;TZID=America/Los_Angeles:20251214T140000
DTEND;TZID=America/Los_Angeles:20251214T153000
DTSTAMP:20260420T201540
CREATED:20241028T210823Z
LAST-MODIFIED:20251120T155102Z
UID:9603-1765720800-1765726200@sf.cisvusa.org
SUMMARY:2026 Program Info Session (in-person)
DESCRIPTION:Are you interested in our 2026 International Programs? \nWe will be hosting an information session to explain what CISV is all about\, the amazing experiential learning that occurs\, and how you can apply. \nPlease join us. \nSan Francisco- December 14\, 2pm \n \n 
URL:https://sf.cisvusa.org/event/2023-program-info-session/
LOCATION:Yerba Buena Center for the Arts\, 701 Mission Street\, San Francisco\, CA\, 94103\, United States
ATTACH;FMTTYPE=image/png:https://sf.cisvusa.org/wp-content/uploads/sites/26/2021/12/Blue-Illustration-World-Civil-Aviation-Day-Instagram-Post-e1668722131403.png
END:VEVENT
END:VCALENDAR