BEGIN:VCALENDAR
VERSION:2.0
PRODID:-//San Francisco - ECPv6.15.20//NONSGML v1.0//EN
CALSCALE:GREGORIAN
METHOD:PUBLISH
X-WR-CALNAME:San Francisco
X-ORIGINAL-URL:https://sf.cisvusa.org
X-WR-CALDESC:Events for San Francisco
REFRESH-INTERVAL;VALUE=DURATION:PT1H
X-Robots-Tag:noindex
X-PUBLISHED-TTL:PT1H
BEGIN:VTIMEZONE
TZID:America/Los_Angeles
BEGIN:DAYLIGHT
TZOFFSETFROM:-0800
TZOFFSETTO:-0700
TZNAME:PDT
DTSTART:20250309T100000
END:DAYLIGHT
BEGIN:STANDARD
TZOFFSETFROM:-0700
TZOFFSETTO:-0800
TZNAME:PST
DTSTART:20251102T090000
END:STANDARD
BEGIN:DAYLIGHT
TZOFFSETFROM:-0800
TZOFFSETTO:-0700
TZNAME:PDT
DTSTART:20260308T100000
END:DAYLIGHT
BEGIN:STANDARD
TZOFFSETFROM:-0700
TZOFFSETTO:-0800
TZNAME:PST
DTSTART:20261101T090000
END:STANDARD
BEGIN:DAYLIGHT
TZOFFSETFROM:-0800
TZOFFSETTO:-0700
TZNAME:PDT
DTSTART:20270314T100000
END:DAYLIGHT
BEGIN:STANDARD
TZOFFSETFROM:-0700
TZOFFSETTO:-0800
TZNAME:PST
DTSTART:20271107T090000
END:STANDARD
END:VTIMEZONE
BEGIN:VEVENT
DTSTART;TZID=America/Los_Angeles:20260117T093000
DTEND;TZID=America/Los_Angeles:20260117T120000
DTSTAMP:20260419T232845
CREATED:20260109T165204Z
LAST-MODIFIED:20260109T171023Z
UID:10116-1768642200-1768651200@sf.cisvusa.org
SUMMARY:Habitat Restoration Service Event
DESCRIPTION:Spend a few hours over MLK weekend giving back to our community with fellow CISVers. We will join the Golden Gate Bird Alliance restoring the habitat for endangered waterfront birds along Oakland’s MLK Shoreline. The extinction of bird species has a significant impact on the planet; birds are crucial for people and the planet to thrive. Tasks will include planting and attending to native plants\, and removing invasive non-native plant species and litter.\n\nEmail sf-events@cisvusa.org or Text (650) 218-4665 with questions\, or to coordinate when you arrive!\nSpots are limited. Use the link below to sign up.\n \nSign-up Link: https://goldengatebirdalliance.app.neoncrm.com/np/clients/goldengatebirdalliance/eventRegistration.jsp?event=16827\n\nVenue: MLK Regional Shoreline\, Oakland\, CA. Park at EBRPD Arrowhead Marsh parking lot: https://maps.app.goo.gl/jfBawHGh11kWW9WK7
URL:https://sf.cisvusa.org/event/habitat-restoration-service-event/
ATTACH;FMTTYPE=image/png:https://sf.cisvusa.org/wp-content/uploads/sites/26/2024/12/Screen-Shot-2024-12-15-at-8.18.10-PM.png
END:VEVENT
BEGIN:VEVENT
DTSTART;TZID=America/Los_Angeles:20260124T100000
DTEND;TZID=America/Los_Angeles:20260124T140000
DTSTAMP:20260419T232845
CREATED:20231124T232050Z
LAST-MODIFIED:20251118T181404Z
UID:9635-1769248800-1769263200@sf.cisvusa.org
SUMMARY:Selection for Youth Meeting and Step Up applicants
DESCRIPTION:This event is a mandatory part of the selection process for 2025 travel programs. It gives potential delegates and leaders an opportunity to meet each other and participate in CISV programming. The focus for potential delegates is to interact\, make new friends\, learn more about the CISV programs\, and to explore if CISV is something they would like to pursue.
URL:https://sf.cisvusa.org/event/selection-for-youth-meeting-step-up-and-fortnight/
LOCATION:San Carlos\, CA
ATTACH;FMTTYPE=image/jpeg:https://sf.cisvusa.org/wp-content/uploads/sites/26/2018/02/slide-1.jpg
END:VEVENT
BEGIN:VEVENT
DTSTART;TZID=America/Los_Angeles:20260124T190000
DTEND;TZID=America/Los_Angeles:20260125T100000
DTSTAMP:20260419T232845
CREATED:20231123T232418Z
LAST-MODIFIED:20251118T205953Z
UID:9640-1769281200-1769335200@sf.cisvusa.org
SUMMARY:Selection for Village\, Junior Counselor\, Fortnight\, and Leader applicants
DESCRIPTION:This event is a mandatory part of the selection process for 2025 travel programs. It gives potential Village delegates\, junior counselors (JC)\, Fortnight and leaders an opportunity to meet each other and play CISV games. The focus for the children is on having fun\, making new friends\, learning more about the CISV organization\, and exploring if Village is something they would like to pursue. \nThis is an overnight event.
URL:https://sf.cisvusa.org/event/selection-for-village/
LOCATION:San Carlos\, CA
ATTACH;FMTTYPE=image/jpeg:https://sf.cisvusa.org/wp-content/uploads/sites/26/2018/11/Camp-pic-italy-2015-scaled.jpg
END:VEVENT
BEGIN:VEVENT
DTSTART;TZID=America/Los_Angeles:20260221T180000
DTEND;TZID=America/Los_Angeles:20260221T200000
DTSTAMP:20260419T232845
CREATED:20250126T184053Z
LAST-MODIFIED:20260220T052407Z
UID:9989-1771696800-1771704000@sf.cisvusa.org
SUMMARY:Gala Night
DESCRIPTION:Experience the magic of a CISV camp gala right here in the Bay Area!\nUse this LINK to buy tickets.\n  \n \n\n 
URL:https://sf.cisvusa.org/event/gala-night/
LOCATION:Fremont\, CA
ATTACH;FMTTYPE=image/jpeg:https://sf.cisvusa.org/wp-content/uploads/sites/26/2025/01/IMG_3229.jpg
END:VEVENT
BEGIN:VEVENT
DTSTART;TZID=America/Los_Angeles:20260301T130000
DTEND;TZID=America/Los_Angeles:20260301T153000
DTSTAMP:20260419T232845
CREATED:20241027T021102Z
LAST-MODIFIED:20251118T180321Z
UID:9676-1772370000-1772379000@sf.cisvusa.org
SUMMARY:First Delegation Meeting
DESCRIPTION:This will be the first time all of the 2026 summer travelers meet to begin preparing for their summer program.
URL:https://sf.cisvusa.org/event/first-delegation-meeting-2/
LOCATION:Skyline College\, 3300 College Dr\, San Bruno\, CA\, 94066
ATTACH;FMTTYPE=image/jpeg:https://sf.cisvusa.org/wp-content/uploads/sites/26/2023/01/IMG_9719-2.jpg
GEO:37.63215;-122.4602362
X-APPLE-STRUCTURED-LOCATION;VALUE=URI;X-ADDRESS=Skyline College 3300 College Dr San Bruno CA 94066;X-APPLE-RADIUS=500;X-TITLE=3300 College Dr:geo:-122.4602362,37.63215
END:VEVENT
BEGIN:VEVENT
DTSTART;TZID=America/Los_Angeles:20260412T130000
DTEND;TZID=America/Los_Angeles:20260412T150000
DTSTAMP:20260419T232845
CREATED:20230219T155355Z
LAST-MODIFIED:20260408T032034Z
UID:9688-1775998800-1776006000@sf.cisvusa.org
SUMMARY:Chapter Walk/Run 4 PEACE
DESCRIPTION:  \nPlease join us for this event planned by our Junior Branch. All proceeds will benefit our chapter\, and our scholarship fund as needed. \nPlease sign-up with the link below.
URL:https://sf.cisvusa.org/event/chapter-walk-run-fundraiser/
LOCATION:Skyline College\, 3300 College Dr\, San Bruno\, CA\, 94066
ATTACH;FMTTYPE=image/jpeg:https://sf.cisvusa.org/wp-content/uploads/sites/26/2023/02/IMG_3569.jpg
GEO:37.63215;-122.4602362
X-APPLE-STRUCTURED-LOCATION;VALUE=URI;X-ADDRESS=Skyline College 3300 College Dr San Bruno CA 94066;X-APPLE-RADIUS=500;X-TITLE=3300 College Dr:geo:-122.4602362,37.63215
END:VEVENT
BEGIN:VEVENT
DTSTART;TZID=America/Los_Angeles:20260605T180000
DTEND;TZID=America/Los_Angeles:20260607T140000
DTSTAMP:20260419T232845
CREATED:20230323T230307Z
LAST-MODIFIED:20251118T180703Z
UID:9704-1780682400-1780840800@sf.cisvusa.org
SUMMARY:CISV SF Mini Camp
DESCRIPTION:
URL:https://sf.cisvusa.org/event/cisv-sf-mini-camp/
LOCATION:Saratoga\, CA\, Saratoga\, CA\, 95070\, United States
ATTACH;FMTTYPE=image/png:https://sf.cisvusa.org/wp-content/uploads/sites/26/2022/09/Screen-Shot-2022-09-17-at-11.46.47-AM-e1663440531668.png
GEO:37.2638319;-122.023004
END:VEVENT
END:VCALENDAR