BEGIN:VCALENDAR
VERSION:2.0
PRODID:-//San Francisco - ECPv6.15.20//NONSGML v1.0//EN
CALSCALE:GREGORIAN
METHOD:PUBLISH
X-WR-CALNAME:San Francisco
X-ORIGINAL-URL:https://sf.cisvusa.org
X-WR-CALDESC:Events for San Francisco
REFRESH-INTERVAL;VALUE=DURATION:PT1H
X-Robots-Tag:noindex
X-PUBLISHED-TTL:PT1H
BEGIN:VTIMEZONE
TZID:America/Los_Angeles
BEGIN:DAYLIGHT
TZOFFSETFROM:-0800
TZOFFSETTO:-0700
TZNAME:PDT
DTSTART:20240310T100000
END:DAYLIGHT
BEGIN:STANDARD
TZOFFSETFROM:-0700
TZOFFSETTO:-0800
TZNAME:PST
DTSTART:20241103T090000
END:STANDARD
BEGIN:DAYLIGHT
TZOFFSETFROM:-0800
TZOFFSETTO:-0700
TZNAME:PDT
DTSTART:20250309T100000
END:DAYLIGHT
BEGIN:STANDARD
TZOFFSETFROM:-0700
TZOFFSETTO:-0800
TZNAME:PST
DTSTART:20251102T090000
END:STANDARD
BEGIN:DAYLIGHT
TZOFFSETFROM:-0800
TZOFFSETTO:-0700
TZNAME:PDT
DTSTART:20260308T100000
END:DAYLIGHT
BEGIN:STANDARD
TZOFFSETFROM:-0700
TZOFFSETTO:-0800
TZNAME:PST
DTSTART:20261101T090000
END:STANDARD
END:VTIMEZONE
BEGIN:VEVENT
DTSTART;TZID=America/Los_Angeles:20251116T190000
DTEND;TZID=America/Los_Angeles:20251116T201500
DTSTAMP:20260419T220050
CREATED:20241214T192458Z
LAST-MODIFIED:20251102T233121Z
UID:9970-1763319600-1763324100@sf.cisvusa.org
SUMMARY:2026 Program Info Session on Zoom
DESCRIPTION:Are you interested in our 2026 International Programs? \nWe will be hosting an information session over Zoom to explain what CISV is all about\, the amazing experiential learning that occurs\, and how you can apply. Register with the QR code below.
URL:https://sf.cisvusa.org/event/2025-program-info-session-on-zoom/
ATTACH;FMTTYPE=image/jpeg:https://sf.cisvusa.org/wp-content/uploads/sites/26/2023/11/Faces_Mosaic-scaled.jpg
END:VEVENT
BEGIN:VEVENT
DTSTART;TZID=America/Los_Angeles:20251125T100000
DTEND;TZID=America/Los_Angeles:20251125T130000
DTSTAMP:20260419T220050
CREATED:20240130T043229Z
LAST-MODIFIED:20251013T002037Z
UID:9799-1764064800-1764075600@sf.cisvusa.org
SUMMARY:Second Harvest Service Event
DESCRIPTION:Join us for this chapter Service event during Thanksgiving week while the kids are off from school. We will be helping Second Harvest of Silicon Valley in Palo Alto. \nWe need adults and kids. To reserve a spot\, make sure to register ahead of time HERE.
URL:https://sf.cisvusa.org/event/second-harvest-food-bank-mosaic-service/
LOCATION:Palo Alto Community Child Care\, 3990 Ventura Court\, Palo Alto\, United States
ATTACH;FMTTYPE=image/png:https://sf.cisvusa.org/wp-content/uploads/sites/26/2021/06/Screen-Shot-2021-06-25-at-8.13.02-AM.png
END:VEVENT
END:VCALENDAR