BEGIN:VCALENDAR
VERSION:2.0
PRODID:-//San Francisco - ECPv6.15.20//NONSGML v1.0//EN
CALSCALE:GREGORIAN
METHOD:PUBLISH
X-WR-CALNAME:San Francisco
X-ORIGINAL-URL:https://sf.cisvusa.org
X-WR-CALDESC:Events for San Francisco
REFRESH-INTERVAL;VALUE=DURATION:PT1H
X-Robots-Tag:noindex
X-PUBLISHED-TTL:PT1H
BEGIN:VTIMEZONE
TZID:America/Los_Angeles
BEGIN:DAYLIGHT
TZOFFSETFROM:-0800
TZOFFSETTO:-0700
TZNAME:PDT
DTSTART:20250309T100000
END:DAYLIGHT
BEGIN:STANDARD
TZOFFSETFROM:-0700
TZOFFSETTO:-0800
TZNAME:PST
DTSTART:20251102T090000
END:STANDARD
BEGIN:DAYLIGHT
TZOFFSETFROM:-0800
TZOFFSETTO:-0700
TZNAME:PDT
DTSTART:20260308T100000
END:DAYLIGHT
BEGIN:STANDARD
TZOFFSETFROM:-0700
TZOFFSETTO:-0800
TZNAME:PST
DTSTART:20261101T090000
END:STANDARD
BEGIN:DAYLIGHT
TZOFFSETFROM:-0800
TZOFFSETTO:-0700
TZNAME:PDT
DTSTART:20270314T100000
END:DAYLIGHT
BEGIN:STANDARD
TZOFFSETFROM:-0700
TZOFFSETTO:-0800
TZNAME:PST
DTSTART:20271107T090000
END:STANDARD
END:VTIMEZONE
BEGIN:VEVENT
DTSTART;TZID=America/Los_Angeles:20260117T093000
DTEND;TZID=America/Los_Angeles:20260117T120000
DTSTAMP:20260419T231755
CREATED:20260109T165204Z
LAST-MODIFIED:20260109T171023Z
UID:10116-1768642200-1768651200@sf.cisvusa.org
SUMMARY:Habitat Restoration Service Event
DESCRIPTION:Spend a few hours over MLK weekend giving back to our community with fellow CISVers. We will join the Golden Gate Bird Alliance restoring the habitat for endangered waterfront birds along Oakland’s MLK Shoreline. The extinction of bird species has a significant impact on the planet; birds are crucial for people and the planet to thrive. Tasks will include planting and attending to native plants\, and removing invasive non-native plant species and litter.\n\nEmail sf-events@cisvusa.org or Text (650) 218-4665 with questions\, or to coordinate when you arrive!\nSpots are limited. Use the link below to sign up.\n \nSign-up Link: https://goldengatebirdalliance.app.neoncrm.com/np/clients/goldengatebirdalliance/eventRegistration.jsp?event=16827\n\nVenue: MLK Regional Shoreline\, Oakland\, CA. Park at EBRPD Arrowhead Marsh parking lot: https://maps.app.goo.gl/jfBawHGh11kWW9WK7
URL:https://sf.cisvusa.org/event/habitat-restoration-service-event/
ATTACH;FMTTYPE=image/png:https://sf.cisvusa.org/wp-content/uploads/sites/26/2024/12/Screen-Shot-2024-12-15-at-8.18.10-PM.png
END:VEVENT
END:VCALENDAR