BEGIN:VCALENDAR
VERSION:2.0
PRODID:-//San Francisco - ECPv6.15.20//NONSGML v1.0//EN
CALSCALE:GREGORIAN
METHOD:PUBLISH
X-WR-CALNAME:San Francisco
X-ORIGINAL-URL:https://sf.cisvusa.org
X-WR-CALDESC:Events for San Francisco
REFRESH-INTERVAL;VALUE=DURATION:PT1H
X-Robots-Tag:noindex
X-PUBLISHED-TTL:PT1H
BEGIN:VTIMEZONE
TZID:America/Los_Angeles
BEGIN:DAYLIGHT
TZOFFSETFROM:-0800
TZOFFSETTO:-0700
TZNAME:PDT
DTSTART:20240310T100000
END:DAYLIGHT
BEGIN:STANDARD
TZOFFSETFROM:-0700
TZOFFSETTO:-0800
TZNAME:PST
DTSTART:20241103T090000
END:STANDARD
BEGIN:DAYLIGHT
TZOFFSETFROM:-0800
TZOFFSETTO:-0700
TZNAME:PDT
DTSTART:20250309T100000
END:DAYLIGHT
BEGIN:STANDARD
TZOFFSETFROM:-0700
TZOFFSETTO:-0800
TZNAME:PST
DTSTART:20251102T090000
END:STANDARD
BEGIN:DAYLIGHT
TZOFFSETFROM:-0800
TZOFFSETTO:-0700
TZNAME:PDT
DTSTART:20260308T100000
END:DAYLIGHT
BEGIN:STANDARD
TZOFFSETFROM:-0700
TZOFFSETTO:-0800
TZNAME:PST
DTSTART:20261101T090000
END:STANDARD
END:VTIMEZONE
BEGIN:VEVENT
DTSTART;TZID=America/Los_Angeles:20251024T110000
DTEND;TZID=America/Los_Angeles:20251026T110000
DTSTAMP:20260420T014359
CREATED:20240712T140606Z
LAST-MODIFIED:20250922T002559Z
UID:9862-1761303600-1761476400@sf.cisvusa.org
SUMMARY:CISV CONNECT
DESCRIPTION:CISV Connect is a camp-style conference that brings together both adults and kids from all U.S. chapters. It will combine camp activities with experiential educational activities. \nCISV Connect will be held in Nashville\, TN. \nCLICK HERE for more info. \nRegistration deadline is October 3rd.
URL:https://sf.cisvusa.org/event/cisv-connect/
ATTACH;FMTTYPE=image/jpeg:https://sf.cisvusa.org/wp-content/uploads/sites/26/2020/08/NEW-CISV-Step-Up-Vestfold-Norway-2018_JPL_07032018_0358-scaled.jpg
END:VEVENT
END:VCALENDAR