BEGIN:VCALENDAR
VERSION:2.0
PRODID:-//San Francisco - ECPv6.15.20//NONSGML v1.0//EN
CALSCALE:GREGORIAN
METHOD:PUBLISH
X-WR-CALNAME:San Francisco
X-ORIGINAL-URL:https://sf.cisvusa.org
X-WR-CALDESC:Events for San Francisco
REFRESH-INTERVAL;VALUE=DURATION:PT1H
X-Robots-Tag:noindex
X-PUBLISHED-TTL:PT1H
BEGIN:VTIMEZONE
TZID:America/Los_Angeles
BEGIN:DAYLIGHT
TZOFFSETFROM:-0800
TZOFFSETTO:-0700
TZNAME:PDT
DTSTART:20240310T100000
END:DAYLIGHT
BEGIN:STANDARD
TZOFFSETFROM:-0700
TZOFFSETTO:-0800
TZNAME:PST
DTSTART:20241103T090000
END:STANDARD
BEGIN:DAYLIGHT
TZOFFSETFROM:-0800
TZOFFSETTO:-0700
TZNAME:PDT
DTSTART:20250309T100000
END:DAYLIGHT
BEGIN:STANDARD
TZOFFSETFROM:-0700
TZOFFSETTO:-0800
TZNAME:PST
DTSTART:20251102T090000
END:STANDARD
BEGIN:DAYLIGHT
TZOFFSETFROM:-0800
TZOFFSETTO:-0700
TZNAME:PDT
DTSTART:20260308T100000
END:DAYLIGHT
BEGIN:STANDARD
TZOFFSETFROM:-0700
TZOFFSETTO:-0800
TZNAME:PST
DTSTART:20261101T090000
END:STANDARD
END:VTIMEZONE
BEGIN:VEVENT
DTSTART;TZID=America/Los_Angeles:20251019T110000
DTEND;TZID=America/Los_Angeles:20251019T140000
DTSTAMP:20260421T044540
CREATED:20250922T001927Z
LAST-MODIFIED:20250927T170555Z
UID:10043-1760871600-1760882400@sf.cisvusa.org
SUMMARY:Explore the SF Neighborhoods
DESCRIPTION:WHAT: A team activity for children AND adults! Groups will explore SF neighborhoods and complete tasks to get to know the city better! \nWHERE: Neighborhoods we will be exploring are: Fisherman’s Wharf\, the Marina\, North Beach\, Nob Hill\, Chinatown\, and Union Square. \nDetailed information about meeting and pick-up spots will be emailed to those who RSVP using the link below. \nJoin us for a pizza party afterward! \nWHO: Groups will consist of 2+ adults and at least one Junior Branch Board member. Group size will be determined based on number of participants. We encourage you to bring a friend! \nWHEN: October 19\, 2025\, from 11am to 2 pm \nWHY:  This is a great opportunity to bond with fellow chapter members\, learn about San Francisco\, and hang out with friends! \nPLEASE USE THE WEBSITE LINK BELOW TO REGISTER.
URL:https://sf.cisvusa.org/event/explore-the-sf-neighborhoods/
ATTACH;FMTTYPE=image/jpeg:https://sf.cisvusa.org/wp-content/uploads/sites/26/2025/09/IMG_4643.jpg
END:VEVENT
END:VCALENDAR