BEGIN:VCALENDAR
VERSION:2.0
PRODID:-//San Francisco - ECPv6.15.20//NONSGML v1.0//EN
CALSCALE:GREGORIAN
METHOD:PUBLISH
X-WR-CALNAME:San Francisco
X-ORIGINAL-URL:https://sf.cisvusa.org
X-WR-CALDESC:Events for San Francisco
REFRESH-INTERVAL;VALUE=DURATION:PT1H
X-Robots-Tag:noindex
X-PUBLISHED-TTL:PT1H
BEGIN:VTIMEZONE
TZID:America/Los_Angeles
BEGIN:DAYLIGHT
TZOFFSETFROM:-0800
TZOFFSETTO:-0700
TZNAME:PDT
DTSTART:20240310T100000
END:DAYLIGHT
BEGIN:STANDARD
TZOFFSETFROM:-0700
TZOFFSETTO:-0800
TZNAME:PST
DTSTART:20241103T090000
END:STANDARD
BEGIN:DAYLIGHT
TZOFFSETFROM:-0800
TZOFFSETTO:-0700
TZNAME:PDT
DTSTART:20250309T100000
END:DAYLIGHT
BEGIN:STANDARD
TZOFFSETFROM:-0700
TZOFFSETTO:-0800
TZNAME:PST
DTSTART:20251102T090000
END:STANDARD
BEGIN:DAYLIGHT
TZOFFSETFROM:-0800
TZOFFSETTO:-0700
TZNAME:PDT
DTSTART:20260308T100000
END:DAYLIGHT
BEGIN:STANDARD
TZOFFSETFROM:-0700
TZOFFSETTO:-0800
TZNAME:PST
DTSTART:20261101T090000
END:STANDARD
END:VTIMEZONE
BEGIN:VEVENT
DTSTART;VALUE=DATE:20250829
DTEND;VALUE=DATE:20250902
DTSTAMP:20260420T202149
CREATED:20240510T005056Z
LAST-MODIFIED:20250611T011320Z
UID:9852-1756425600-1756771199@sf.cisvusa.org
SUMMARY:Western Region Mini Camp (WRMC)
DESCRIPTION:Use the link at the bottom to register for WRMC directly with the Austin\, TX Chapter. \nDelegates traveling with the San Francisco chapter will pay for their own travel\, in addition to paying the registration fee to Austin. \nDelegates will travel together\, with a chaperone from the San Francisco Chapter. \n 
URL:https://sf.cisvusa.org/event/western-region-mini-camp-wrmc/
LOCATION:Austin\, TX
ATTACH;FMTTYPE=image/jpeg:https://sf.cisvusa.org/wp-content/uploads/sites/26/2019/09/WRMC-2019-690.jpg
END:VEVENT
END:VCALENDAR